BEGIN:VCALENDAR
PRODID:-//hacksw/handcal//NONSGML v1.0//EN
VERSION:2.0
METHOD:PUBLISH
BEGIN:VEVENT
DTSTART:20260211T233000Z
DTEND:20260212T013000Z
LOCATION:San Antonio Area Foundation @ the Concord Plaza
UID:2907520260211T233000ZJoint Mixer with FPA of San Antonio & South Texas - Hosted by the San Antonio Area Foundation!
DTSTAMP:20260421T135101Z
DESCRIPTION:\nSOLD OUT!\n \n\n
SUMMARY:Joint Mixer with FPA of San Antonio & South Texas - Hosted by the San Antonio Area Foundation! - San Antonio Estate Planners Council 
PRIORITY:3
BEGIN:VALARM
TRIGGER:PT18H
ACTION:DISPLAY
DESCRIPTION:Reminder
END:VALARM
END:VEVENT
END:VCALENDAR