BEGIN:VCALENDAR
PRODID:-//hacksw/handcal//NONSGML v1.0//EN
VERSION:2.0
METHOD:PUBLISH
BEGIN:VEVENT
DTSTART:20251118T180000Z
DTEND:20251118T190000Z
LOCATION:Luncheon at San Antonio Country Club
UID:2881720251118T180000ZNovember 18 Luncheon with Briana Loughlin Johnson
DTSTAMP:20260421T134100Z
DESCRIPTION:\nBriana Loughlin Johnson represents individuals and corporate fiduciaries in probate and fiduciary litigation including will contests, breach of fiduciary duty suits, and receivership proceedings.\n \nWith regard to tax matters, Briana counsels clients on Internal Revenue Service (IRS) examinations, appeals, and trials related to gift, estate, and generation-skipping transfer tax matters. She also has extensive experience drafting and arguing pleadings, motions, and discovery in state and federal court.\n \n"Tax Penalties - Practical Takeaways for Estate Planners"\n \nExplore essential insights for estate planners on tax penalty risks and how to address them proactively.\n Prerequisites:  None Experience Level: Overview Advanced Preparation: None Teaching Method: Lecture \nCE Submission:\n CLE - 1 Hour Approved + .25 Hour Ethics CFP - 1 Hour Approved CPE - 1 Hour Approved CTFA - 1.25 Hours Approved \nEvent Information:  Registration will open at 11:30am - Program will begin at 12:00pm.  \n \n \n
SUMMARY:November 18 Luncheon with Briana Loughlin Johnson - San Antonio Estate Planners Council 
PRIORITY:3
BEGIN:VALARM
TRIGGER:PT18H
ACTION:DISPLAY
DESCRIPTION:Reminder
END:VALARM
END:VEVENT
END:VCALENDAR