BEGIN:VCALENDAR
PRODID:-//hacksw/handcal//NONSGML v1.0//EN
VERSION:2.0
METHOD:PUBLISH
BEGIN:VEVENT
DTSTART:20250819T223000Z
DTEND:20250820T000000Z
LOCATION:Bank of Texas 755 E. Mulberry Avenue, Suite 520
UID:2821920250819T223000ZSAEPC ANNUAL BOARD OF GOVERNORS MEETING
DTSTAMP:20260421T130314Z
DESCRIPTION:\nPlease join us for the annual Board of Governors meeting!  We'll have light fare, water and soft drinks available!\n
SUMMARY:SAEPC ANNUAL BOARD OF GOVERNORS MEETING - San Antonio Estate Planners Council 
PRIORITY:3
BEGIN:VALARM
TRIGGER:PT18H
ACTION:DISPLAY
DESCRIPTION:Reminder
END:VALARM
END:VEVENT
END:VCALENDAR