BEGIN:VCALENDAR
PRODID:-//hacksw/handcal//NONSGML v1.0//EN
VERSION:2.0
METHOD:PUBLISH
BEGIN:VEVENT
DTSTART:20250923T223000Z
DTEND:20250924T000000Z
LOCATION:Carriqui at The Pearl
UID:2775120250923T223000Z2025-2026 Council Year Kick-Off Mixer!
DTSTAMP:20260421T130407Z
DESCRIPTION:\nKicking off the 2025-2026 Council Year!\n \nJoin us for a great social event at Carriqui\n \n\n
SUMMARY:2025-2026 Council Year Kick-Off Mixer! - San Antonio Estate Planners Council 
PRIORITY:3
BEGIN:VALARM
TRIGGER:PT18H
ACTION:DISPLAY
DESCRIPTION:Reminder
END:VALARM
END:VEVENT
END:VCALENDAR