BEGIN:VCALENDAR
PRODID:-//hacksw/handcal//NONSGML v1.0//EN
VERSION:2.0
METHOD:PUBLISH
BEGIN:VEVENT
DTSTART:20250520T170000Z
DTEND:20250520T180000Z
LOCATION:Luncheon at San Antonio Country Club
UID:2769520250520T170000Z"Power of Appointment or Disappointment?"
DTSTAMP:20260421T131113Z
DESCRIPTION:\n"Power of Appointment or Disappointment?"\n \nDescription: This presentation will focus on unique issues relating to (1) the tax treatment of different powers of appointment, (2) tax considerations when drafting powers of appointment and exercising powers of appointment, and (3) tax pitfalls involving powers of appointment.\n Prerequisites:  None Experience Level: Advanced Advanced Preparation: None Teaching Method: Lecture \nCE Submission:\n CLE - 1 Hour Approved CFP - 1 Hour Approved CPE - 1 Hour Approved CTFA - 1.25 Hours Approved \nEvent Information:  Registration will open at 11:30am - Program will begin at 12:00pm.  \n \n \n
SUMMARY:"Power of Appointment or Disappointment?" - San Antonio Estate Planners Council 
PRIORITY:3
BEGIN:VALARM
TRIGGER:PT18H
ACTION:DISPLAY
DESCRIPTION:Reminder
END:VALARM
END:VEVENT
END:VCALENDAR