BEGIN:VCALENDAR
PRODID:-//hacksw/handcal//NONSGML v1.0//EN
VERSION:2.0
METHOD:PUBLISH
BEGIN:VEVENT
DTSTART:20250422T170000Z
DTEND:20250422T180000Z
LOCATION:Luncheon at San Antonio Country Club
UID:2754120250422T170000Z"Estate and Tax Planning for the Affluent Client"
DTSTAMP:20260421T133705Z
DESCRIPTION:\n"Your Client Has a Plan -  Is it the Plan They Want?"\n \nDescription: This presentation will teach about trending techniques in estate tax planning for affluent families as well as exploring various techniques for business owners and blended families.  Also, it will review new issues concerning digital assets and rulings that may affect an affluent family's estate tax liability.\n Prerequisites:  None Experience Level: Intermediate Advanced Preparation: None Teaching Method: Lecture \nCE Submission:\n CLE - 1 Hour Approved CFP - 1 Hour Approved CPE - 1 Hour Approved CTFA - 1.25 Hours Approved \nEvent Information:  Registration will open at 11:30am - Program will begin at 12:00pm.  \n \n \n
SUMMARY:"Estate and Tax Planning for the Affluent Client" - San Antonio Estate Planners Council 
PRIORITY:3
BEGIN:VALARM
TRIGGER:PT18H
ACTION:DISPLAY
DESCRIPTION:Reminder
END:VALARM
END:VEVENT
END:VCALENDAR