BEGIN:VCALENDAR
PRODID:-//hacksw/handcal//NONSGML v1.0//EN
VERSION:2.0
METHOD:PUBLISH
BEGIN:VEVENT
DTSTART:20250218T180000Z
DTEND:20250218T190000Z
LOCATION:Luncheon at San Antonio Country Club
UID:2735420250218T180000Z"Artificial Intelligence and Its Impact on Today's Estate Planner"
DTSTAMP:20260421T131501Z
DESCRIPTION:\n"Artificial Intelligence and It's Impact on Today's Estate Planner"\n \nDescription: Artificial intelligence is rapidly being incorporated into estate planning practices. AI products can increase the speed by which you prepare, review, and summarize estate planning related documents, tax returns, and client communications. Likewise, the speed by which you can conduct legal and financial research is faster than ever. This presentation is designed to explain how AI operates, the potential use of AI in your practice, warnings about the use of AI, and how to address the ethical issues that arise when using AI. \n Prerequisites:  None Experience Level: Overview Advanced Preparation: None Teaching Method: Lecture \nCE Submission:\n CLE - 1 Hour Approved CFP - 1 Hour Approved CPE - 1 Hour Approved CTFA - 1.25 Hours Approved \nEvent Information:  Registration will open at 11:30am - Program will begin at 12:00pm.  \n \n \n
SUMMARY:"Artificial Intelligence and Its Impact on Today's Estate Planner" - San Antonio Estate Planners Council 
PRIORITY:3
BEGIN:VALARM
TRIGGER:PT18H
ACTION:DISPLAY
DESCRIPTION:Reminder
END:VALARM
END:VEVENT
END:VCALENDAR