BEGIN:VCALENDAR
PRODID:-//hacksw/handcal//NONSGML v1.0//EN
VERSION:2.0
METHOD:PUBLISH
BEGIN:VEVENT
DTSTART:20250212T233000Z
DTEND:20250213T010000Z
LOCATION:San Antonio Area Foundation at the Concord Plaza
UID:2727820250212T233000ZJOINT NETWORKING EVENT:  With FPA of San Antonio & So. Texas - Hosted by SA Area Foundation
DTSTAMP:20260421T131639Z
DESCRIPTION:\nTake this opportunity to network with the members of the FPA (Financial Planners Association) of San Antonio and South Texas!  The FPA SATX members consist of Certified Financial Planners and Allied Professionals!  A perfect opportunity to expand your connections to other financial service providers in our area.\n \nPREPARE TO MEET NEW CONNECTIONS to Expand your practice!  Bring loads of Business Cards!\n
SUMMARY:JOINT NETWORKING EVENT:  With FPA of San Antonio & So. Texas - Hosted by SA Area Foundation - San Antonio Estate Planners Council 
PRIORITY:3
BEGIN:VALARM
TRIGGER:PT18H
ACTION:DISPLAY
DESCRIPTION:Reminder
END:VALARM
END:VEVENT
END:VCALENDAR