BEGIN:VCALENDAR
PRODID:-//hacksw/handcal//NONSGML v1.0//EN
VERSION:2.0
METHOD:PUBLISH
BEGIN:VEVENT
DTSTART:20250121T180000Z
DTEND:20250121T190000Z
LOCATION:Luncheon at San Antonio Country Club
UID:2727720250121T180000Z"Empowered Giving Through Non-Cash Assets"
DTSTAMP:20260421T131852Z
DESCRIPTION:\nVIRTUAL ONLY!\n \nDue to the weather forecast for Monday night and Tuesday, the SAEPC board has decided to cancel the 'in-person' luncheon.  We will offer the program and CE virtually.  The webinar connection information will be sent to everyone.  Please note that you'll need to register, answer all polling questions and the evaulation at the end of the program in order to receive CE credits.\n \n"Empowered Giving Through Non-Cash Assets"\n \nJeff Gerold CFP®, CEPA® is the Vice President and Head of Advisor Experience at National Philanthropic Trust (NPT). He leads NPT’s Regional Directors, Advisor Services and Donor Relations teams. He cultivates relationships with advisors in TX providing consultative support to help clients achieve their philanthropic goals. \n Prerequisites:  None Experience Level: Intermediate Advanced Preparation: None Teaching Method: Lecture \nCE Submission:\n CLE - 1 Hour Approved CFP - 1 Hour Approved CPE - 1 Hour Approved CTFA - 1.25 Approved \n \n
SUMMARY:"Empowered Giving Through Non-Cash Assets" - San Antonio Estate Planners Council 
PRIORITY:3
BEGIN:VALARM
TRIGGER:PT18H
ACTION:DISPLAY
DESCRIPTION:Reminder
END:VALARM
END:VEVENT
END:VCALENDAR