BEGIN:VCALENDAR
PRODID:-//hacksw/handcal//NONSGML v1.0//EN
VERSION:2.0
METHOD:PUBLISH
BEGIN:VEVENT
DTSTART:20241029T170000Z
DTEND:20241029T180000Z
LOCATION:Luncheon at San Antonio Country Club
UID:2690220241029T170000Z"With Great Power Comes Great Responsibility: Directed Trusts"
DTSTAMP:20260421T130743Z
DESCRIPTION:\n"With Great Power Comes Great Responsibility: Directed Trusts"\n \nDescription: In the world of trusts, the concept of “directed trusts” has gained prominence. These trusts allow for a division of responsibilities between trustees and nonâtrustees, granting flexibility and customization. This directed trust presentation explores the development of directed trusts, selected aspects of directed trust legislation, factors important in the selection of situs, and recommended drafting tips. \n \nLearning Objectives: \n Learn the terminology of directed trusts Different aspects of directed trust legislation in Texas, Delaware, Nevada and UDTA Factors in the selection of sites for directed trusts Drafting Tips for establishing directed Trusts Prerequisites:  None Experience Level: Intermediate Advanced Preparation: None Teaching Method: Lecture \nCE Submission:\n CLE - 1 Hour Approved  CFP - 1 Hour Approved CPE - 1 Hour Approved CTFA - 1.25 Hours Approved \nEvent Information:  Registration will open at 11:30am - Program will begin at 12:00pm.  \n \nNOTICE:  Please arrive early as the country club is under extensive renovations and parking spaces close to the front entrance may not be available.    [PARKING & VALET MAP](/assets/Councils/SanAntonio-TX/userContent/images/SACC%20Parking%20Map.jpg)\n
SUMMARY:"With Great Power Comes Great Responsibility: Directed Trusts" - San Antonio Estate Planners Council 
PRIORITY:3
BEGIN:VALARM
TRIGGER:PT18H
ACTION:DISPLAY
DESCRIPTION:Reminder
END:VALARM
END:VEVENT
END:VCALENDAR