BEGIN:VCALENDAR
PRODID:-//hacksw/handcal//NONSGML v1.0//EN
VERSION:2.0
METHOD:PUBLISH
BEGIN:VEVENT
DTSTART:20241119T180000Z
DTEND:20241119T190000Z
LOCATION:Luncheon at San Antonio Country Club
UID:2681020241119T180000Z"Even With Higher Exemptions, the IRS is Not Giving up on Estate and Gift Tax Examinations"
DTSTAMP:20260421T130232Z
DESCRIPTION:\n"Even With Higher Exemptions, the IRS is Not Giving up on Estate and Gift Tax Examinations"\n \nDescription: The presentation will discuss the current IRS initiatives in estate and gift tax examinations and important court decisions. \n Prerequisites:  None Experience Level: Overview Advanced Preparation: None Teaching Method: Lecture \nCE Submission:\n CLE - 1 Hour Approved CFP - 1 Hour Approved CPE - 1 Hour Approved CTFA - 1.25 Hours Approved \nEvent Information:  Registration will open at 11:30am - Program will begin at 12:00pm.  \n \nNOTICE:  Please arrive early as the country club is under extensive renovations and parking spaces close to the front entrance may not be available.    [PARKING & VALET MAP](/assets/Councils/SanAntonio-TX/userContent/images/SACC%20Parking%20Map.jpg)\n
SUMMARY:"Even With Higher Exemptions, the IRS is Not Giving up on Estate and Gift Tax Examinations" - San Antonio Estate Planners Council 
PRIORITY:3
BEGIN:VALARM
TRIGGER:PT18H
ACTION:DISPLAY
DESCRIPTION:Reminder
END:VALARM
END:VEVENT
END:VCALENDAR