BEGIN:VCALENDAR
PRODID:-//hacksw/handcal//NONSGML v1.0//EN
VERSION:2.0
METHOD:PUBLISH
BEGIN:VEVENT
DTSTART:20240925T220000Z
DTEND:20240926T000000Z
LOCATION:Carriqui at the Pearl
UID:2666720240925T220000Z2024-2025 Member Kick-Off Mixer
DTSTAMP:20260421T141304Z
DESCRIPTION:[](https://sanantonioepc.org/)  \n[San Antonio Estate Planners Council](https://sanantonioepc.org/)\n  \n \n2024-2025 Kick-Off Mixer at the Carriqui at the Pearl - 239 East Grayson Ave. [(Map)](https://maps.app.goo.gl/dFTQYa1okvhASQAU9)\n \n \nJoin us for our annual Kick-Off mixer and meet up with old and new acquaintances!\n
SUMMARY:2024-2025 Member Kick-Off Mixer - San Antonio Estate Planners Council 
PRIORITY:3
BEGIN:VALARM
TRIGGER:PT18H
ACTION:DISPLAY
DESCRIPTION:Reminder
END:VALARM
END:VEVENT
END:VCALENDAR