BEGIN:VCALENDAR
PRODID:-//hacksw/handcal//NONSGML v1.0//EN
VERSION:2.0
METHOD:PUBLISH
BEGIN:VEVENT
DTSTART:20240521T170000Z
DTEND:20240521T180000Z
LOCATION:Luncheon at San Antonio Country Club
UID:2592120240521T170000ZTimely Updates on Private Foundation Giving Matters
DTSTAMP:20260421T130956Z
DESCRIPTION:\n"Timely Updates on Private Foundation Giving Matters"\n \nDescription & Objective:  \n \nWhen it comes to formal charitable giving vehicles, private foundations offer the most flexibility and creativity for philanthropic endeavors. As they also are the most intricately structured, this presentation will help advisors understand some of their more complex issues, namely:\n How they differ from donor-advised funds (DAFs) and how the two may be used in tandem for ultimate giving synergy How they can engage in charitable investing.  Specifically, via program- and mission-related investments. Implications of the proposed legislation to regulate private foundation grants to donor-advised funds Prerequisites:  None Experience Level: Overview Advanced Preparation: None Teaching Method: Lecture \nCE Submission:\n CLE - 1 Hour Approved  CFP - 1 Hour Approved CPE - 1 Hour Approved CTFA - 1.25 Hours Approved \nEvent Information:  Registration will open at 11:30am - Program will begin at 12:00pm.  NOTICE:  Please arrive early as the country club is under extensive renovations and parking spaces close to the front entrance may not be available.\n
SUMMARY:Timely Updates on Private Foundation Giving Matters - San Antonio Estate Planners Council 
PRIORITY:3
BEGIN:VALARM
TRIGGER:PT18H
ACTION:DISPLAY
DESCRIPTION:Reminder
END:VALARM
END:VEVENT
END:VCALENDAR