BEGIN:VCALENDAR
PRODID:-//hacksw/handcal//NONSGML v1.0//EN
VERSION:2.0
METHOD:PUBLISH
BEGIN:VEVENT
DTSTART:20240220T180000Z
DTEND:20240220T190000Z
LOCATION:Luncheon at San Antonio Country Club
UID:2564920240220T180000ZSettlement Agreements – Difficult Issues in Trusts and Estates 
DTSTAMP:20260421T131557Z
DESCRIPTION:\n"Settlement Agreements: Difficult Issues in Trusts & Estates"\n \nDescription & Objective:  An overview of drafting settlement agreements in trust & estate matters, with focus getting an effective release for the fiduciary.\n Prerequisites:  None Experience Level: Intermediate Advanced Preparation: None Teaching Method: Lecture \nCE Submission:\n CLE - 1 Hour Approved  CFP - 1 Hour Approved CPE - 1 Hour Approved CTFA - 1.25 Hours Approved \nEvent Information:  Registration will open at 11:30am - Program will begin at 12:00pm.  NOTICE:  Please arrive early as the country club is under extensive renovations and parking spaces close to the front entrance may not be available.\n
SUMMARY:Settlement Agreements – Difficult Issues in Trusts and Estates  - San Antonio Estate Planners Council 
PRIORITY:3
BEGIN:VALARM
TRIGGER:PT18H
ACTION:DISPLAY
DESCRIPTION:Reminder
END:VALARM
END:VEVENT
END:VCALENDAR