BEGIN:VCALENDAR
PRODID:-//hacksw/handcal//NONSGML v1.0//EN
VERSION:2.0
METHOD:PUBLISH
BEGIN:VEVENT
DTSTART:20240116T173000Z
DTEND:20240116T190000Z
LOCATION:Luncheon at San Antonio Country Club
UID:2494620240116T173000ZNavigating Sudden Death: A Roadmap for Guiding Clients Through Unexpected Tragedy
DTSTAMP:20260421T130616Z
DESCRIPTION:\n"Navigating Sudden Death: A Roadmap for Guiding Clients Through Unexpected Tragedy"\n Objective:  Develop an understanding of the grief process and the different manners which it may present itself in a client experiencing sudden or tragic loss, including a lawyers ethical role in that process and options in post mortem planning. Prerequisites:  None Experience Level: Intermediate Advanced Preparation: None Teaching Method: Lecture Recommended Credit: 1 hour \nCE Submission:\n CLE - 1 Hour Approved CFP - 1 Hour Approved CPE - 1 Hour Approved CTFA - 1.25 Hours Approved \nEvent Information:  Registration will open at 11:30am - Program will begin at 12:00pm.  NOTICE:  Please arrive early as the country club is under extensive renovations and parking spaces close to the front entrance may not be available.\n
SUMMARY:Navigating Sudden Death: A Roadmap for Guiding Clients Through Unexpected Tragedy - San Antonio Estate Planners Council 
PRIORITY:3
BEGIN:VALARM
TRIGGER:PT18H
ACTION:DISPLAY
DESCRIPTION:Reminder
END:VALARM
END:VEVENT
END:VCALENDAR