BEGIN:VCALENDAR
PRODID:-//hacksw/handcal//NONSGML v1.0//EN
VERSION:2.0
METHOD:PUBLISH
BEGIN:VEVENT
DTSTART:20231114T233000Z
DTEND:20231115T010000Z
LOCATION:Clark Hill Offices - 2301 Broadway, SATX 78215
UID:2494520231114T233000ZNovember 14, 2023 Speed Netorking Mixer
DTSTAMP:20260421T130458Z
DESCRIPTION:\nSORRY!  OUR SPACE HAS BEEN FILLED AND REGISTRATION HAS BEEN DISCONTINUED.\n \nCome join us for our Speed Networking event! RSVP required.\n\nTuesday, November 14, 2023\nClark Hill PLC\n 2301 Broadway, San Antonio, Texas 78215\n \n5:30-7:00 p.m. \n Bring lots of business cards to this Speed Networking event. You will get a chance to quickly meet a small table of estate planning professionals in a structured format and then switch tables and meet several more in this fun and fast paced event. We will provide drinks and some light appetizers. Guests Fee $40 (must be paid online prior to event) \nDEADLINE TO REGISTER - THURSDAY, NOVEMBER 9, 2023 at 5PM\n \nSPACE IS LIMITED!  REGISTER EARLY!\n
SUMMARY:November 14, 2023 Speed Netorking Mixer - San Antonio Estate Planners Council 
PRIORITY:3
BEGIN:VALARM
TRIGGER:PT18H
ACTION:DISPLAY
DESCRIPTION:Reminder
END:VALARM
END:VEVENT
END:VCALENDAR