BEGIN:VCALENDAR
PRODID:-//hacksw/handcal//NONSGML v1.0//EN
VERSION:2.0
METHOD:PUBLISH
BEGIN:VEVENT
DTSTART:20230920T220000Z
DTEND:20230921T000000Z
LOCATION:Boiler House at the Pearl (Next to Hotel Emma)
UID:2486520230920T220000Z2023-2024 Member Kick-Off Mixer
DTSTAMP:20260421T132309Z
DESCRIPTION:[](https://sanantonioepc.org/)  \n[San Antonio Estate Planners Council](https://sanantonioepc.org/)\n  \n \n\n \nEstate Planners' Council of San Antonio - 2023-2024 Kick-Off Mixer at the Boiler House at the Pearl\n \n \nJoin us for our annual Kick-Off mixer and meet up\n \nwith old and new acquaintances!\n \nCapacity has been reached - registration is closed.\n
SUMMARY:2023-2024 Member Kick-Off Mixer - San Antonio Estate Planners Council 
PRIORITY:3
BEGIN:VALARM
TRIGGER:PT18H
ACTION:DISPLAY
DESCRIPTION:Reminder
END:VALARM
END:VEVENT
END:VCALENDAR