BEGIN:VCALENDAR
PRODID:-//hacksw/handcal//NONSGML v1.0//EN
VERSION:2.0
METHOD:PUBLISH
BEGIN:VEVENT
DTSTART:20230516T170000Z
DTEND:20230516T180000Z
LOCATION:San Antonio Country Club - 4100 N. New Braunfels, San Antonio
UID:2417220230516T170000ZLife Settlements and Life Insurance Valuation Solutions for Estate and Tax Professionals
DTSTAMP:20260421T133143Z
DESCRIPTION:\nLife insurance is a mainstay in estate and business succession/buy-sell planning. As circumstances change, advisors and clients can appropriately value and potentially monetize policies for more than their cash surrender value. The valuation of existing policies is used by fiduciaries to protect clients’ best interests and uncover value to help solve other planning needs.\n \nRegistration will open at 11:30am. \n \nNOTICE:  Please arrive early as the country club is under extensive renovations and parking spaces close to the front entrance may not be available.  You may also use the side entrance using the stairs by the Ladies' locker room and then the stairs to the ballroom.\n
SUMMARY:Life Settlements and Life Insurance Valuation Solutions for Estate and Tax Professionals - San Antonio Estate Planners Council 
PRIORITY:3
BEGIN:VALARM
TRIGGER:PT18H
ACTION:DISPLAY
DESCRIPTION:Reminder
END:VALARM
END:VEVENT
END:VCALENDAR