BEGIN:VCALENDAR
PRODID:-//hacksw/handcal//NONSGML v1.0//EN
VERSION:2.0
METHOD:PUBLISH
BEGIN:VEVENT
DTSTART:20230418T170000Z
DTEND:20230418T180000Z
LOCATION:San Antonio Country Club - 4100 N. New Braunfels, San Antonio
UID:2409220230418T170000ZSNTs, Pooled Trusts and ABLE.  How they all work together. 
DTSTAMP:20260421T130751Z
DESCRIPTION:\nSNTs, Pooled Trusts and Achieving a Better Life Experience (ABLE) accounts and their utility in trust administration and planning. In coordination with Supplemental Needs Trusts (SNTs) ABLE accounts can provide autonomy and expansion of permissible purchases for beneficiaries. Hear real life examples of how SNTs and ABLE accounts work together.\n \nUnderstand How SNTs, Pooled Trusts and ABLE accounts can work together in estate planning and trust administration. \n \nRegistration will open at 11:30am. \n \nNOTICE:  Please arrive early as the country club is under extensive renovations and parking spaces close to the entrance may not be available.\n
SUMMARY:SNTs, Pooled Trusts and ABLE.  How they all work together.  - San Antonio Estate Planners Council 
PRIORITY:3
BEGIN:VALARM
TRIGGER:PT18H
ACTION:DISPLAY
DESCRIPTION:Reminder
END:VALARM
END:VEVENT
END:VCALENDAR