BEGIN:VCALENDAR
PRODID:-//hacksw/handcal//NONSGML v1.0//EN
VERSION:2.0
METHOD:PUBLISH
BEGIN:VEVENT
DTSTART:20230117T180000Z
DTEND:20230117T190000Z
LOCATION:San Antonio Country Club - 4100 N. New Braunfels, San Antonio
UID:2382020230117T180000ZTrust Issues in Divorce Proceedings
DTSTAMP:20260421T130232Z
DESCRIPTION:\nTrust Issues in Divorce Proceedings\n \nThis program will cover some of the many trust issues that arise in divorce proceedings. The program will address trust basics, voiding trusts, characterization of trust assets and distributions, ethics involved in estate planning for married couples, trust construction issues, and Trust Code provisions that address divorced parties.\n \nThe objective is to teach estate planning and family law attorneys about trust issues that come up on divorce proceedings.\n \nDavid Fowler Johnson is widely recognized as one of the go-to fiduciary litigators in Texas. David’s practice focuses on trust, estate, and closely-held business disputes. A frequent writer and speaker, David is known around the state as a thought leader in the fiduciary area. His award-winning blog, [Texas ](http://www.txfiduciarylitigator.com/)[Fiduciary Litigator](https://www.txfiduciarylitigator.com/)[,](http://www.txfiduciarylitigator.com/) features recent case law, legislative changes, and other precedent that impacts fiduciaries in Texas. David received the JD Supra 2020 Readers’ Choice Award for Wealth Management, which was his third year in a row for such an award. He was also named a “Go-To Thought Leader” in Fiduciary Litigation by the National Law Review in 2020.\n \nRegistration will open at 11:30am.\n \n \n \n  \n 
SUMMARY:Trust Issues in Divorce Proceedings - San Antonio Estate Planners Council 
PRIORITY:3
BEGIN:VALARM
TRIGGER:PT18H
ACTION:DISPLAY
DESCRIPTION:Reminder
END:VALARM
END:VEVENT
END:VCALENDAR