BEGIN:VCALENDAR
PRODID:-//hacksw/handcal//NONSGML v1.0//EN
VERSION:2.0
METHOD:PUBLISH
BEGIN:VEVENT
DTSTART:20221220T180000Z
DTEND:20221220T190000Z
LOCATION:San Antonio Country Club - 4100 N. New Braunfels, San Antonio
UID:2358220221220T180000ZWhat Is Going On There?  A Residential and Commercial Update
DTSTAMP:20260421T130335Z
DESCRIPTION:\nRaul Jimenez of the Schroeder Group\n \nA 'post-covid' update of the San Antonio, Bexar County and Texas commercial and residential real estate market and how it will affect your clients' retirement and investment portfolios.\n \nThe Schrader Group - Brokered by eXp Realty\n \nThe Schrader Group has had the honor of helping thousands of families buy and sell homes since 1982. Our outstanding service allows clients to confidently refer others, knowing that their friends and loved ones are receiving the best service.\n \nRaul is a Texas native and has spent most of his life in San Antonio. Over the years, he has had the pleasure of meeting and developing friendships with many great people in this community. Throughout his school years, he attended numerous private schools including: Mount Sacred Heart 98’, Central Catholic High School 02’, and graduated with a BA Degree from The University of the Incarnate Word in 2008. Raul is forever indebted to his parents for all the sacrifices they made to provide the many opportunities that have so richly blessed his life. \n  \n 
SUMMARY:What Is Going On There?  A Residential and Commercial Update - San Antonio Estate Planners Council 
PRIORITY:3
BEGIN:VALARM
TRIGGER:PT18H
ACTION:DISPLAY
DESCRIPTION:Reminder
END:VALARM
END:VEVENT
END:VCALENDAR