BEGIN:VCALENDAR
PRODID:-//hacksw/handcal//NONSGML v1.0//EN
VERSION:2.0
METHOD:PUBLISH
BEGIN:VEVENT
DTSTART:20221020T220000Z
DTEND:20221021T000000Z
LOCATION:Paesano's Lincoln Heights
UID:2339120221020T220000ZEstate Planners' Council of San Antonio - 2022-2023 Kick-Off Mixer at Paesano's Lincoln Heights
DTSTAMP:20260421T134657Z
DESCRIPTION:\nJoin us for our annual Kick-Off mixer and meet up \n \nwith old and new acquaintances!\n \nSeating is limited!  Register now!\n \nWhen capacity is reached, registration will be closed.\n
SUMMARY:Estate Planners' Council of San Antonio - 2022-2023 Kick-Off Mixer at Paesano's Lincoln Heights - San Antonio Estate Planners Council 
PRIORITY:3
BEGIN:VALARM
TRIGGER:PT18H
ACTION:DISPLAY
DESCRIPTION:Reminder
END:VALARM
END:VEVENT
END:VCALENDAR