BEGIN:VCALENDAR
PRODID:-//hacksw/handcal//NONSGML v1.0//EN
VERSION:2.0
METHOD:PUBLISH
BEGIN:VEVENT
DTSTART:20221018T170000Z
DTEND:20221018T180000Z
LOCATION:San Antonio Country Club
UID:2338420221018T170000Z"When Estate Planning, Marital Agreements and Divorce Collide: How to Avoid Unintended Consequences"
DTSTAMP:20260421T130146Z
DESCRIPTION:
SUMMARY:"When Estate Planning, Marital Agreements and Divorce Collide: How to Avoid Unintended Consequences" - San Antonio Estate Planners Council 
PRIORITY:3
BEGIN:VALARM
TRIGGER:PT18H
ACTION:DISPLAY
DESCRIPTION:Reminder
END:VALARM
END:VEVENT
END:VCALENDAR