BEGIN:VCALENDAR
PRODID:-//hacksw/handcal//NONSGML v1.0//EN
VERSION:2.0
METHOD:PUBLISH
BEGIN:VEVENT
DTSTART:20220215T180000Z
DTEND:20220215T190000Z
LOCATION:San Antonio Country Club
UID:2222820220215T180000ZDrafting  and Interpreting Trust Distribution Provisions That: Say What You Mean and Mean What You Say
DTSTAMP:20260421T130509Z
DESCRIPTION:\nObjective:      Estate Planning\nPrerequisites:  NONE\nExperience Level: Intermediate\nAdvanced Preparation: None\nTeaching Method: Lecture\nRecommended Credit: 1 hour\n \nTHANK YOU TO THOSE WHO HAVE ALREADY RENEWED AND/OR HAVE BECOME NEW MEMBERS\n \n[RENEW NOW OR BECOME A NEW MEMBER!](https://www.sanantonioepc.org/members/renewal)\n \n[Pay On-line](https://www.sanantonioepc.org/members/renewal) (Issues with link - visit [www.sanantonioepc.org](https://www.sanantonioepc.org/)); at the top, select “Membership” on the dropdown menu scroll down to “Membership Renewal” (NEW MEMBERS: use same instructions); follow prompts to enter credit card information;\n \nOR\n \nPrint and mail [Membership Application](http://www.sanantonioepc.org/assets/Councils/SanAntonio-TX/library/Membership%20Application%20-%20Sept.%202019-May%202020.pdf), with check, made payable to SAEPC for $315.00 to:  SAEPC, Attn.: Birdie Sanchez, P.O. Box 33323, San Antonio, Texas 78265.\n
SUMMARY:Drafting  and Interpreting Trust Distribution Provisions That: Say What You Mean and Mean What You Say - San Antonio Estate Planners Council 
PRIORITY:3
BEGIN:VALARM
TRIGGER:PT18H
ACTION:DISPLAY
DESCRIPTION:Reminder
END:VALARM
END:VEVENT
END:VCALENDAR