BEGIN:VCALENDAR
PRODID:-//hacksw/handcal//NONSGML v1.0//EN
VERSION:2.0
METHOD:PUBLISH
BEGIN:VEVENT
DTSTART:20220517T170000Z
DTEND:20220517T180000Z
LOCATION:San Antonio Country Club
UID:2136020220517T170000ZPlanning for Individuals with Diminished Life Expectancy
DTSTAMP:20260421T130859Z
DESCRIPTION:\nObjective:      Estate Planning\nPrerequisites:  NONE\nExperience Level: Intermediate\nAdvanced Preparation: None\nTeaching Method: Lecture\nRecommended Credit: 1 hour\n
SUMMARY:Planning for Individuals with Diminished Life Expectancy - San Antonio Estate Planners Council 
PRIORITY:3
BEGIN:VALARM
TRIGGER:PT18H
ACTION:DISPLAY
DESCRIPTION:Reminder
END:VALARM
END:VEVENT
END:VCALENDAR