BEGIN:VCALENDAR
PRODID:-//hacksw/handcal//NONSGML v1.0//EN
VERSION:2.0
METHOD:PUBLISH
BEGIN:VEVENT
DTSTART:20220419T170000Z
DTEND:20220419T180000Z
LOCATION:San Antonio Country Club
UID:2135920220419T170000ZTemporary Guardianships and Other Emergency Relief
DTSTAMP:20260421T131200Z
DESCRIPTION:
SUMMARY:Temporary Guardianships and Other Emergency Relief - San Antonio Estate Planners Council 
PRIORITY:3
BEGIN:VALARM
TRIGGER:PT18H
ACTION:DISPLAY
DESCRIPTION:Reminder
END:VALARM
END:VEVENT
END:VCALENDAR