BEGIN:VCALENDAR
PRODID:-//hacksw/handcal//NONSGML v1.0//EN
VERSION:2.0
METHOD:PUBLISH
BEGIN:VEVENT
DTSTART:20220315T170000Z
DTEND:20220315T180000Z
LOCATION:San Antonio Country Club
UID:2135820220315T170000ZHow To Pay When the Bill Comes Due--Estate Liquidity in 2022
DTSTAMP:20260421T134202Z
DESCRIPTION:
SUMMARY:How To Pay When the Bill Comes Due--Estate Liquidity in 2022 - San Antonio Estate Planners Council 
PRIORITY:3
BEGIN:VALARM
TRIGGER:PT18H
ACTION:DISPLAY
DESCRIPTION:Reminder
END:VALARM
END:VEVENT
END:VCALENDAR