BEGIN:VCALENDAR
PRODID:-//hacksw/handcal//NONSGML v1.0//EN
VERSION:2.0
METHOD:PUBLISH
BEGIN:VEVENT
DTSTART:20220203T140000Z
DTEND:20220203T230000Z
LOCATION:Witte Museum - Mays Family Center
UID:2135720220203T140000ZDocket Call - February 3-4, 2022
DTSTAMP:20260421T131557Z
DESCRIPTION:\n[REGISTER NOW!](https://www.sanantonioepc.org/council/special-projects)\n \nDate and Location – Thursday, February 3, 2022 and Friday, February 4, 2022 at the Mays Family Center at the Witte Museum located at 3801 Broadway in San Antonio, Texas.\n \nSCOPE – The Docket Call in Probate Court seminar is designed as a “nuts-and-bolts” course on estate planning, probate, guardianships, trusts, and fiduciary litigation for probate and estate planning practitioners, general practitioners, trust officers, and CPAs. \n \nTuition – The registration fee for attendance on both days of the seminar, including all written materials, is $495 if registration fee is received before Friday, January 21, 2022, and is $525 if the registration fee is received after Friday, January 21, 2022. A portion of the seminar proceeds will benefit one or more local charities as selected by the Board of Directors for the SAEPC.\n \nWritten Materials – Course written materials may be purchased for $300 in lieu of attending the seminar.  Attendance at the seminar whether in person or by Zoom will receive all course written materials; however, attendance by Zoom will receive course materials on a USB drive.\n \nAttendance – A discount for attendance by Zoom is not provided.  Further, a discount for a portion of the seminar is not provided.\n \nRegistration – Limited seating is available.  Please register early to ensure attendance.  Refunds of registration fees (less a $50 administrative fee) will be made only if requested in writing and received by Patty Vargas before Friday, January 28, 2022.  Registrants not timely requesting a refund will be mailed course materials on a USB drive. \n
SUMMARY:Docket Call - February 3-4, 2022 - San Antonio Estate Planners Council 
PRIORITY:3
BEGIN:VALARM
TRIGGER:PT18H
ACTION:DISPLAY
DESCRIPTION:Reminder
END:VALARM
END:VEVENT
END:VCALENDAR