BEGIN:VCALENDAR
PRODID:-//hacksw/handcal//NONSGML v1.0//EN
VERSION:2.0
METHOD:PUBLISH
BEGIN:VEVENT
DTSTART:20210420T170000Z
DTEND:20210420T180000Z
LOCATION:San Antonio Country Club
UID:1951020210420T170000ZTop Tips for Successful Zoomediations of Probate, Trust and Estate Disputes
DTSTAMP:20260421T131729Z
DESCRIPTION:\nObjective:      Estate Planning\nPrerequisites:  NONE\nExperience Level: Intermediate\nAdvanced Preparation: None\nTeaching Method: Lecture\nRecommended Credit: 1 hour\n
SUMMARY:Top Tips for Successful Zoomediations of Probate, Trust and Estate Disputes - San Antonio Estate Planners Council 
PRIORITY:3
BEGIN:VALARM
TRIGGER:PT18H
ACTION:DISPLAY
DESCRIPTION:Reminder
END:VALARM
END:VEVENT
END:VCALENDAR