BEGIN:VCALENDAR
PRODID:-//hacksw/handcal//NONSGML v1.0//EN
VERSION:2.0
METHOD:PUBLISH
BEGIN:VEVENT
DTSTART:20210316T170000Z
DTEND:20210316T180000Z
LOCATION:San Antonio Country Club
UID:1950920210316T170000ZHow to Avoid and What to do if Audited by the IRS
DTSTAMP:20260421T130308Z
DESCRIPTION:\nObjective:      Estate Planning\nPrerequisites:  NONE\nExperience Level: Intermediate\nAdvanced Preparation: None\nTeaching Method: Lecture\nRecommended Credit: 1 hour\n
SUMMARY:How to Avoid and What to do if Audited by the IRS - San Antonio Estate Planners Council 
PRIORITY:3
BEGIN:VALARM
TRIGGER:PT18H
ACTION:DISPLAY
DESCRIPTION:Reminder
END:VALARM
END:VEVENT
END:VCALENDAR