BEGIN:VCALENDAR
PRODID:-//hacksw/handcal//NONSGML v1.0//EN
VERSION:2.0
METHOD:PUBLISH
BEGIN:VEVENT
DTSTART:20201215T180000Z
DTEND:20201215T190000Z
LOCATION:Via ZOOM
UID:1950620201215T180000ZEffects of COVID on Underwriting & Premium Financing of Life Insurance
DTSTAMP:20260421T131729Z
DESCRIPTION:\nObjective:      Estate Planning\nPrerequisites:  NONE\nExperience Level: Intermediate\nAdvanced Preparation: None\nTeaching Method: Lecture\nRecommended Credit: 1 hour\n
SUMMARY:Effects of COVID on Underwriting & Premium Financing of Life Insurance - San Antonio Estate Planners Council 
PRIORITY:3
BEGIN:VALARM
TRIGGER:PT18H
ACTION:DISPLAY
DESCRIPTION:Reminder
END:VALARM
END:VEVENT
END:VCALENDAR