BEGIN:VCALENDAR
PRODID:-//hacksw/handcal//NONSGML v1.0//EN
VERSION:2.0
METHOD:PUBLISH
BEGIN:VEVENT
DTSTART:20201117T180000Z
DTEND:20201117T190000Z
LOCATION:Via ZOOM
UID:1950520201117T180000ZCyber Estate Planning and Administration
DTSTAMP:20260421T130919Z
DESCRIPTION:\n----------\n \nWebinar Speakers\n \nProfessor Gerry Beyer (@Texas Tech University School of Law)\n \nObjective:      Estate Planning\nPrerequisites:  NONE\nExperience Level: Intermediate\nAdvanced Preparation: None\nTeaching Method: Lecture\nRecommended Credit: 1 hour\n
SUMMARY:Cyber Estate Planning and Administration - San Antonio Estate Planners Council 
PRIORITY:3
BEGIN:VALARM
TRIGGER:PT18H
ACTION:DISPLAY
DESCRIPTION:Reminder
END:VALARM
END:VEVENT
END:VCALENDAR