BEGIN:VCALENDAR
PRODID:-//hacksw/handcal//NONSGML v1.0//EN
VERSION:2.0
METHOD:PUBLISH
BEGIN:VEVENT
DTSTART:20170516T170000Z
DTEND:20170516T180000Z
LOCATION:San Antonio Country Club
UID:1318020170516T170000ZWindmill Leases
DTSTAMP:20260421T132004Z
DESCRIPTION:
SUMMARY:Windmill Leases - San Antonio Estate Planners Council 
PRIORITY:3
BEGIN:VALARM
TRIGGER:PT18H
ACTION:DISPLAY
DESCRIPTION:Reminder
END:VALARM
END:VEVENT
END:VCALENDAR